{"text_format":"3","workbook":"xlsx","n_sheets":2,"sheets":["Event","Courses"],"read":"whole","date_system":"1900"}

{"sheet":"Event","index":0,"n_rows":10,"n_cols":24,"rows_kept":10}
[null,"Hole #",{"$f":"Courses!C1","v":1},{"$f":"Courses!D1","v":2},{"$f":"Courses!E1","v":3},{"$f":"Courses!F1","v":4},{"$f":"Courses!G1","v":5},{"$f":"Courses!H1","v":6},{"$f":"Courses!I1","v":7},{"$f":"Courses!J1","v":8},{"$f":"Courses!K1","v":9},"(Out)",{"$f":"Courses!M1","v":10},{"$f":"Courses!N1","v":11},{"$f":"Courses!O1","v":12},{"$f":"Courses!P1","v":13},{"$f":"Courses!P1","v":13},{"$f":"Courses!R1","v":15},{"$f":"Courses!S1","v":16},{"$f":"Courses!T1","v":17},{"$f":"Courses!U1","v":18},"(In)","Total"]
[null,"Yardage",{"$f":"Courses!C3","v":395},{"$f":"Courses!D3","v":145},{"$f":"Courses!E3","v":488},{"$f":"Courses!F3","v":352},{"$f":"Courses!G3","v":377},{"$f":"Courses!H3","v":147},{"$f":"Courses!I3","v":343},{"$f":"Courses!J3","v":462},{"$f":"Courses!K3","v":371},{"$f":"Courses!L3","v":3080},{"$f":"Courses!M3","v":392},{"$f":"Courses!N3","v":463},{"$f":"Courses!O3","v":365},{"$f":"Courses!P3","v":359},{"$f":"Courses!Q3","v":137},{"$f":"Courses!R3","v":417},{"$f":"Courses!S3","v":162},{"$f":"Courses!T3","v":385},{"$f":"Courses!U3","v":439},{"$f":"Courses!V3","v":3119},{"$f":"Courses!W3","v":6199}]
[null,"Par",{"$f":"Courses!C4","v":4},{"$f":"Courses!D4","v":3},{"$f":"Courses!E4","v":5},{"$f":"Courses!F4","v":4},{"$f":"Courses!G4","v":4},{"$f":"Courses!H4","v":3},{"$f":"Courses!I4","v":4},{"$f":"Courses!J4","v":5},{"$f":"Courses!K4","v":4},{"$f":"Courses!L4","v":36},{"$f":"Courses!M4","v":4},{"$f":"Courses!N4","v":5},{"$f":"Courses!O4","v":4},{"$f":"Courses!P4","v":4},{"$f":"Courses!Q4","v":3},{"$f":"Courses!R4","v":4},{"$f":"Courses!S4","v":3},{"$f":"Courses!T4","v":4},{"$f":"Courses!U4","v":5},{"$f":"Courses!V4","v":36},{"$f":"Courses!W4","v":72}]
["Player","Hdcp",{"$f":"Courses!C5","v":9},{"$f":"Courses!D5","v":13},{"$f":"Courses!E5","v":15},{"$f":"Courses!F5","v":1},{"$f":"Courses!G5","v":3},{"$f":"Courses!H5","v":11},{"$f":"Courses!I5","v":7},{"$f":"Courses!J5","v":17},{"$f":"Courses!K5","v":5},null,{"$f":"Courses!M5","v":4},{"$f":"Courses!N5","v":6},{"$f":"Courses!O5","v":8},{"$f":"Courses!P5","v":16},{"$f":"Courses!Q5","v":18},{"$f":"Courses!R5","v":2},{"$f":"Courses!S5","v":12},{"$f":"Courses!T5","v":10},{"$f":"Courses!U5","v":14}]
[{"$nulls":11},{"$f":"SUM(C5:K5)","v":0},{"$nulls":9},{"$f":"SUM(M5:U5)","v":0},{"$f":"L5+V5","v":0},{"$f":"W5-B5","v":0}]
[{"$nulls":11},0,{"$nulls":9},0,0,0]
[{"$nulls":11},0,{"$nulls":9},0,0,0]
[{"$nulls":11},0,{"$nulls":9},0,0,0]
[]
[{"$f":"Courses!A6","v":"BLACK HORSE - NORTH (W)"},{"$nulls":9}," "]

{"sheet":"Courses","index":1,"n_rows":48,"n_cols":104,"rows_kept":48}
["Code","Hole",1,2,3,4,5,6,7,8,9,null,10,11,12,13,14,15,16,17,18,{"$nulls":5},"Men's Tee",null,null,"Womens Tee",{"$nulls":3},"a1",null,"Men's Yardage - Selected Tee's",{"$nulls":22},"Men's Par - Selected Tee's",{"$nulls":22},"Men's Handicap - Selected Tee's"]
[102,null,3,4,5,6,7,8,9,10,11,12,13,14,15,16,17,18,19,20,21,22,23,null,"Code","COURSE TO PLAY","TEE'S","YARDS","CR/Slope","TEE'S","YARDS","CR/Slope","Fee",null,"Code",null,1,2,3,4,5,6,7,8,9,"Out",10,11,12,13,14,15,16,17,18,"In",null,null,"Code",null,1,2,3,4,5,6,7,8,9,"Out",10,11,12,13,14,15,16,17,18,"In",null,null,"Code",null,1,2,3,4,5,6,7,8,9,"Out",10,11,12,13,14,15,16,17,18,"In"]
[{"$f":"$A$2&\"Y\"","v":"102Y"},{"$f":"IF(ISERROR(INDEX($AI$1:$BE$51,SMALL(IF($AI$3:$AI$51=$A$3,ROW($AI$3:$AI$51)),ROW(1:1)),2)),\"\",INDEX($AI$1:$BE$51,SMALL(IF($AI$3:$AI$51=$A$3,ROW($AI$3:$AI$51)),ROW(1:1)),2))","v":"White"},{"$f":"VLOOKUP($A$3,$AI3:$BE48,C$2)","v":395},{"$f":"VLOOKUP($A$3,$AI3:$BE48,D$2)","v":145},488,352,377,147,343,462,371,3080,392,463,365,359,137,417,162,385,439,3119,6199,null,101,"BAY FOREST GC (W)","Gold",{"$f":"BE3","v":5661},"68.7/119","Red",{"$f":"DX3","v":0},"71.0/127",{"v":36.8,"d":"$36.80"},"NC",{"$f":"$Y3&\"Y\"","v":"101Y"},"GOLD",364,354,135,428,311,135,424,140,341,{"$f":"SUM(AK3:AS3)","v":2632},444,453,359,138,461,355,306,145,368,{"$f":"SUM(AU3:BC3)","v":3029},{"$f":"SUM(AT3,BD3)","v":5661},null,{"$f":"$Y3&\"P\"","v":"101P"},"Par",4,4,3,5,4,3,5,3,4,{"$f":"SUM(BI3:BQ3)","v":35},5,5,4,3,5,4,4,3,4,{"$f":"SUM(BS3:CA3)","v":37},{"$f":"SUM(BR3,CB3)","v":72},null,{"$f":"$Y3&\"H\"","v":"101H"},"HDCP",6,8,16,10,4,18,2,14,12,"Out",15,9,7,11,5,3,13,17,1,"In"]
[{"$f":"$A$2&\"P\"","v":"102P"},"Par",{"$f":"VLOOKUP($A$4,$BG$3:$CC$48,C$2)","v":4},{"$f":"VLOOKUP($A$4,$BG$3:$CC$48,D$2)","v":3},5,4,4,3,4,5,4,36,4,5,4,4,3,4,3,4,5,36,72,null,102,"BLACK HORSE - NORTH (W)","WHITE",6199,"71.1/123","Green",0,"70.5/120",{"v":75,"d":"$75.00"},"NC","102Y","White",395,145,488,352,377,147,343,462,371,3080,392,463,365,359,137,417,162,385,439,3119,6199,null,"102P","Par",4,3,5,4,4,3,4,5,4,36,4,5,4,4,3,4,3,4,5,36,72,null,"102H","HDCP",9,13,15,1,3,11,7,17,5,"Out",4,6,8,16,18,2,12,10,14,"In"]
[{"$f":"$A$2&\"H\"","v":"102H"},"Hdcp",{"$f":"VLOOKUP($A$5,$CE$3:$CZ$48,C$2)","v":9},{"$f":"VLOOKUP($A$5,$CE$3:$CZ$48,D$2)","v":13},15,1,3,11,7,17,5,"Out",4,6,8,16,18,2,12,10,14,"In",null,null,103,"BLACK HORSE - SOUTH (W)","WHITE",6084,"70.3/127","Green",0,"68.7/120",{"v":75,"d":"$75.00"},"NC","103Y","White",368,389,412,174,456,143,341,403,420,3106,353,371,381,156,372,472,305,144,424,2978,6084,null,"103P","Par",4,4,4,3,5,3,4,4,5,36,4,4,4,3,4,5,4,3,5,36,72,null,"103H","HDCP",9,5,3,11,7,17,15,1,13,"Out",18,14,6,10,4,2,16,8,12,"In"]
[{"$f":"IF(ISERROR(INDEX($Y$1:$Z$50,SMALL(IF($Y$3:$Y$50=$A$2,ROW($Y$3:$Y$50)),ROW($1:$1)),2)),\"\",INDEX($Y$1:$Z$50,SMALL(IF($Y$3:$Y$50=$A$2,ROW($Y$3:$Y$50)),ROW($1:$1)),2))","v":"BLACK HORSE - NORTH (W)"},{"$nulls":23},104,"CINCO RANCH (W)","White",5822,"68.9/122","RED",0,"69.5/123",{"v":56.24,"d":"$56.24"},"NC","104Y","White",341,303,133,472,152,491,367,304,351,2914,373,291,126,371,356,484,127,418,362,2908,5822,null,"104P","Par",4,4,3,5,3,5,4,4,4,36,4,4,3,4,4,5,3,4,4,35,71,null,"104H","HDCP",9,5,15,3,17,1,11,13,7,"Out",8,12,18,4,14,2,16,6,10,"In"]
[{"$nulls":24},105,"CLEAR CREEK (G)","Gold",5617,"67.2/117","Red",0,"71.5/122",{"v":37,"d":"$37.00"},"NC","105Y","GOLD",312,338,422,295,133,460,122,275,331,2688,317,507,142,511,123,324,307,330,368,2929,5617,null,"105P","Par",4,4,5,4,3,5,3,4,4,36,4,5,3,5,3,4,4,4,4,36,72,null,"105H","HDCP",5,3,13,9,15,7,17,11,1,"Out",6,2,12,10,18,16,14,4,8,"In"]
[{"$nulls":24},106,"CYPRESS LAKES (G)","GOLD",6136,"70.2/123","GREEN",0,"71.5/127",{"v":51,"d":"$51.00"},"NC","106Y","GOLD",328,476,372,176,358,334,145,480,330,2999,510,158,362,319,490,396,353,141,408,3137,6136,null,"106P","Par",4,5,4,3,4,4,3,5,4,36,5,3,4,4,5,4,4,3,4,36,72,null,"106H","HDCP",17,5,1,9,3,15,13,7,11,"Out",6,16,12,14,8,4,10,18,2,"In"]
[null,{"$f":"A1","v":"Code"},{"$nulls":22},107,"CYPRESSWOOD - CYPRESS (F)","FOREST",6168,"70.3/120","COPPER",0,"67.3/114",{"v":37.89,"d":"$37.89"},"NC","107Y","Green",485,335,326,375,155,361,137,527,352,3053,381,368,354,320,117,546,160,490,379,3115,6168,null,"107P","Par",5,4,4,4,3,4,3,5,4,36,4,4,4,4,3,5,3,5,4,36,72,null,"107H","HDCP",3,13,11,7,15,9,17,1,5,"Out",6,10,12,14,18,2,16,4,8,"In"]
[{"$nulls":24},108,"CYPRESSWOOD - CYPRESS (S)","SILVER",5644,"67.6/118","COPPER",0,"69.9/117",{"v":37.89,"d":"$37.89"},"NC","108Y","Silver",456,328,297,337,119,357,137,499,321,2851,277,315,319,320,117,515,127,461,342,2793,5644,null,"108P","Par",5,4,4,4,3,4,3,5,4,36,4,4,4,4,3,5,3,5,4,36,72,null,"108H","HDCP",3,13,11,7,15,9,17,1,5,"Out",6,10,12,14,18,2,16,4,8,"In"]
[null,{"$f":"A3","v":"102Y"},{"$nulls":22},109,"CYPRESSWOOD - TRADITIONS (S)","SILVER",5396,"66.5/117","COPPER",0,"67.7/115",{"v":48.71,"d":"$48.71"},"NC","109Y","Silver",348,328,129,328,461,277,482,107,305,2765,315,153,413,348,106,328,318,215,435,2631,5396,null,"109P","Par",4,4,3,4,5,4,5,3,4,36,4,3,5,4,3,4,4,4,5,36,72,null,"109H","HDCP",7,17,11,1,3,13,9,15,5,"Out",14,8,10,6,18,12,2,16,4,"In"]
[null,"102P",{"$nulls":22},110,"CYPRESSWOOD - TRADITIONS (W)","WHITE",6162,"69.9/125","COPPER",0,"67.8/117",{"v":48.71,"d":"$48.71"},"NC","110Y","White",348,328,169,398,547,311,482,169,394,3146,348,187,468,395,151,328,378,265,496,3016,6162,null,"110P","Par",4,4,3,4,5,4,5,3,4,36,4,3,5,4,3,4,4,4,5,36,72,null,"110H","HDCP",7,17,11,1,3,13,9,15,5,"Out",14,8,10,6,18,12,2,16,4,"In"]
[null,"102H",{"$nulls":22},111,"EAGLE POINTE (G)","GREEN",5881,"69.3/120","RED",5213,"70.0/122",{"v":50,"d":"$50.00"},"NC","111Y","Green",479,332,129,358,356,389,321,135,498,2997,384,349,136,361,306,113,413,479,343,2884,5881,null,"111P","Par",5,4,3,4,4,4,4,3,5,36,4,4,3,4,4,3,4,5,4,35,71,null,"111H","HDCP",15,5,17,7,9,1,13,11,3,"Out",4,2,16,2,14,18,8,10,6,"In"]
[{"$nulls":24},112,"GLEANNLOCH - GLEANN/LOCH (G)","GOLD",5862,"68.8/121","Red",{"$f":"DX14","v":0},"69.8/120",{"v":49,"d":"$49.00"},"GPGL","112Y","Gold",122,318,359,314,397,144,467,124,506,2751,384,485,357,368,445,128,370,136,438,3111,5862,null,"112P","Par",3,4,4,4,4,3,5,3,5,35,4,5,4,4,5,3,4,3,4,36,71,null,"112H","HDCP",5,9,3,17,1,13,15,11,7,"Out",8,16,6,10,18,14,4,12,2,"In"]
[{"$nulls":24},113,"GLEANNLOCH - LOCH/PINES (G)","GOLD",6189,"70.2/130","Red",0,"71.2/125",{"v":49,"d":"$49.00"},"GPLP","113Y","Gold",384,485,357,368,445,128,370,136,438,3111,518,380,116,441,116,398,343,408,358,3078,6189,null,"113P","Par",4,5,4,4,5,3,4,3,4,36,5,4,3,5,3,4,4,4,4,36,72,null,"113H","HDCP",7,15,5,9,17,13,3,11,1,"Out",6,4,14,18,16,2,12,8,10,"In"]
[{"$nulls":24},114,"GLEANNLOCH - PINES/GLEANN (G)","GOLD",5829,"69.0/123","Red",0,"70.0/122",{"v":49,"d":"$49.00"},"GPPG","114Y","Gold",518,380,116,441,116,398,343,408,358,3078,122,318,359,314,397,144,467,124,506,2751,5829,null,"114P","Par",5,4,3,5,3,4,4,4,4,36,3,4,4,4,4,3,5,3,5,35,71,null,"114H","HDCP",5,3,13,17,15,1,11,7,9,"Out",6,10,4,18,2,14,16,12,8,"In"]
[{"$nulls":24},115,"GUS WORTHAM (W)","WHITE",6015,"69.6/121","Green",4887,"68.2/116",{"v":54.71,"d":"$54.71"},"GW","115Y","White",324,460,497,430,181,438,383,123,302,3138,126,417,284,306,373,347,205,473,346,2877,6015,null,"115P","Par",4,5,5,4,3,4,4,3,4,36,3,4,4,4,4,4,3,5,4,35,71,null,"115H","HDCP",15,3,1,7,13,5,9,17,11,"Out",18,4,16,12,6,10,14,2,8,"In"]
[{"$nulls":24},116,"HIGH MEADOW RANCH (G/W)","Green/White",{"$f":"BE18","v":6003},"69.1/118","Maroon",{"$f":"DX18","v":0},"68.7/121",{"v":64.35,"d":"$64.35"},"HMR","116Y","G/W",328,497,377,476,158,314,322,355,162,{"$f":"SUM(AK18:AS18)","v":2989},403,128,298,472,389,398,163,393,370,{"$f":"SUM(AU18:BC18)","v":3014},{"$f":"SUM(AT18,BD18)","v":6003},null,"116P","Par",4,5,4,5,3,4,4,4,3,{"$f":"SUM(BI18:BQ18)","v":36},5,3,4,5,4,4,3,4,4,{"$f":"SUM(BS18:CA18)","v":36},{"$f":"SUM(BR18,CB18)","v":72},null,"116H","HDCP",13,9,3,7,17,15,5,1,11,"Out",8,18,12,14,10,2,16,4,6,"In"]
[{"$nulls":24},117,"HIGH MEADOW RANCH (W)","White",5614,"67.6/119","Maroon",0,"68.7/119",{"v":64.35,"d":"$64.35"},"HMR","117Y","White",289,467,329,464,135,277,322,355,162,2800,403,128,298,450,354,339,143,360,339,2814,5614,null,"117P","Par",4,5,4,5,3,4,4,4,3,36,5,3,4,5,4,4,3,4,4,36,72,null,"117H","HDCP",13,9,3,7,17,15,5,1,11,"Out",8,18,12,14,10,2,16,4,6,"In"]
[{"$nulls":24},118,"HOUSTON NATIONAL (W)","WHITE",6265,"70.3/126","RED",0,"73.0/126",{"v":50,"d":"$50.00"},"NC","118Y","White",362,528,140,392,388,508,164,349,356,3187,339,364,542,351,146,349,160,359,468,3078,6265,null,"118P","Par",4,5,3,4,4,5,3,4,4,36,4,4,5,4,3,4,3,4,5,36,72,null,"118H","HDCP",5,1,17,7,9,11,15,13,3,"Out",14,8,4,10,18,12,16,2,6,"In"]
[{"$nulls":24},119,"JERSEY MEADOW (G)","GOLD",5721,"68.7/122","Green",0,"69.9/122",{"v":43.31,"d":"$43.31"},"NC","119Y","GOLD",349,396,365,145,347,141,466,152,292,2653,389,144,348,429,376,373,318,340,351,3068,5721,null,"119P","Par",4,4,4,3,4,3,5,3,4,34,4,3,4,5,4,4,4,4,4,36,70,null,"119H","HDCP",11,9,7,15,3,17,5,13,1,"Out",4,18,14,8,6,12,16,2,10,"In"]
[{"$nulls":24},120,"LONGWOOD (Palmetta/Post Oak)","BLACK",5456,"66.7/119","Maroon",0,"67.9/118",{"v":65,"d":"$65.00"},"LPALM","120Y","Black",431,335,111,400,296,250,149,369,355,2696,362,164,471,126,355,284,485,121,392,2760,5456,null,"120P","Par",5,4,3,5,4,4,3,4,4,36,5,3,5,3,4,4,5,3,4,36,72,null,"120H","HDCP",13,1,11,5,9,15,17,3,7,"Out",8,10,12,16,2,14,4,18,6,"In"]
[{"$nulls":24},121,"LONGWOOD (Pine/Palmetta)","BLACK",5750,"68.0/120","Maroon",0,"68.9/123",{"v":65,"d":"$65.00"},"LPINE","121Y","Black",361,397,141,469,381,375,113,425,392,3054,431,335,111,400,296,250,149,369,355,2696,5750,null,"121P","Par",4,4,3,5,4,4,3,5,4,36,5,4,3,5,4,4,3,4,4,36,72,null,"121H","HDCP",3,1,17,11,9,7,15,13,5,"Out",14,2,12,6,10,16,18,4,8,"In"]
[{"$nulls":24},122,"LONGWOOD (Post Oak/Pine)","BLACK",5814,"68.5/122","Maroon",0,"69.9/124",{"v":65,"d":"$65.00"},"LPOST","122Y","Black",362,164,471,126,355,284,485,121,392,2760,361,397,141,469,381,375,113,425,392,3054,5814,null,"122P","Par",5,3,5,3,4,4,5,3,4,36,4,4,3,5,4,4,3,5,4,36,72,null,"122H","HDCP",7,9,11,15,1,13,3,17,5,"Out",4,2,18,12,10,8,16,14,6,"In"]
[{"$nulls":24},123,"MARGARITAVILLE RESORT (G)","GOLD",5969,"68.4/125","Silver",0,"68.8/116",{"v":48.71,"d":"$48.71"},"NC","123Y","Yellow",451,142,354,422,395,156,355,351,423,3049,384,135,369,380,165,372,488,146,481,2920,5969,null,"123P","Par",5,3,4,4,4,3,4,4,5,36,4,3,4,4,3,4,5,3,5,35,71,null,"123H","HDCP",7,17,13,1,3,15,5,9,11,"Out",2,18,10,8,16,4,12,14,6,"In"]
[{"$nulls":24},124,"MOODY GARDENS","GOLD",5972,"69.4/123","RED",0,"71.2/121",{"v":58.46,"d":"$58.46"},"NC","124Y","GOLD",425,397,312,105,537,175,528,352,126,2957,355,473,302,166,527,308,378,107,399,3015,5972,null,"124P","Par",5,4,4,3,5,3,5,4,3,36,4,5,4,3,5,4,4,3,4,36,72,null,"124H","HDCP",15,7,13,17,1,3,9,5,11,"Out",8,12,14,10,4,16,6,18,2,"In"]
[{"$nulls":24},125,"NORTHGATE CC - (W)","WHITE",5855,"69.2/127","Green",0,"69.6/120",{"v":85,"d":"$85.00"},"nc","125Y","WHITE",501,344,321,122,347,372,356,150,520,3033,460,157,278,392,344,148,380,141,522,2822,5855,null,"125P","Par",5,4,4,3,4,4,4,3,5,36,5,3,4,4,4,3,4,3,5,35,71,null,"125H","HDCP",9,13,7,17,11,5,1,15,3,"Out",6,18,12,2,10,16,8,14,4,"In"]
[{"$nulls":24},126,"OAKHURST (W)","WHITE",5647,"66.3/115","RED",0,"70.1/120",{"v":42.21,"d":"$42.21"},"NC","126Y","WHITE",422,334,298,462,122,285,140,333,362,2758,441,121,369,329,424,318,338,156,393,2889,5647,null,"126P","Par",5,4,4,5,3,4,3,4,4,36,5,3,4,4,5,4,4,3,4,36,72,null,"126H","HDCP",9,3,11,5,17,15,13,7,1,"Out",8,14,12,10,18,16,4,6,2,"In"]
[{"$nulls":24},127,"PANORAMA (Rolling Hills/Winged Foot) (Bk)","BLACK",5563,"65.4/116","RED",{"$f":"DX30","v":0},"69.5/114",{"v":49.72,"d":"$49.72"},"RHWF","127Y","Black",307,368,102,409,257,120,319,300,447,2629,515,146,299,352,332,342,153,439,356,2934,5563,null,"127P","Par",4,4,3,5,4,3,4,4,5,36,5,3,4,4,4,4,3,5,4,36,72,null,"127H","HDCP",7,5,11,9,13,17,3,15,1,"Out",2,18,6,14,12,8,16,10,4,"In"]
[{"$nulls":24},128,"PANORAMA (Thunderbird/Rolling Hills) (BK)","BLACK",5326,"66.0/118","RED",0,"70.8/117",{"v":49.72,"d":"$49.72"},"TBRH","128Y","Black",275,125,449,315,333,304,168,432,296,2697,307,368,102,409,257,120,319,300,447,2629,5326,null,"128P","Par",4,3,5,4,4,4,3,5,4,36,4,4,3,5,4,3,4,4,5,36,72,null,"128H","HDCP",17,15,11,9,13,3,5,7,1,"Out",8,6,12,10,14,18,4,16,2,"In"]
[{"$nulls":24},129,"PANORAMA (Winged Foot/Thunderbird) (BK)","BLACK",5631,"65.0/118","RED",{"$f":"DX31","v":0},"69.5/114",{"v":49.72,"d":"$49.72"},"WFTB","129Y","Black",515,146,299,352,332,342,153,439,356,2934,275,125,449,315,333,304,168,432,296,2697,5631,null,"129P","Par",5,3,4,4,4,4,3,5,4,36,4,3,5,4,4,4,3,5,4,36,72,null,"129H","HDCP",1,17,5,13,11,7,15,9,3,"Out",18,16,12,10,14,4,6,8,2,"In"]
[{"$nulls":24},130,"PEARLAND GC (W)","WHITE",5859,"69.2/121","RED",0,"70.0/119",{"v":38.79,"d":"$38.79"},"NC","130Y","White",327,410,140,337,142,397,289,376,384,2802,449,151,357,388,341,124,456,383,408,3057,5859,null,"130P","Par",4,5,3,4,3,5,4,4,4,36,5,3,4,4,4,3,5,4,4,36,72,null,"130H","HDCP",11,1,15,9,17,3,13,7,5,"Out",4,16,12,8,14,18,2,10,6,"In"]
[{"$nulls":24},131,"Quail Valley - EL DORADO (G) ","GOLD",5685,"68.7/122","RED",0,"70.7/123",{"v":55.21,"d":"$55.21"},"NC","131Y","Gold",462,129,352,304,322,170,522,155,339,2755,468,173,339,355,154,350,320,321,450,2930,5685,null,"131P","Par",5,3,4,4,4,3,5,3,4,35,5,3,4,4,3,4,4,4,5,36,71,null,"131H","HDCP",5,13,7,9,1,17,3,15,11,"Out",8,18,14,6,16,4,10,2,12,"In"]
[{"$nulls":24},132,"Quail Valley - LA QUINTA (G)","GOLD",5682,"68.5/121","RED",0,"72.5/130",{"v":55.21,"d":"$55.21"},"NC","132Y","Gold",455,370,336,280,95,331,465,152,360,2844,340,452,363,118,385,364,337,131,348,2838,5682,null,"132P","Par",5,4,4,4,3,4,5,3,4,36,4,5,4,3,4,4,4,3,4,35,71,null,"132H","HDCP",5,7,1,3,15,13,9,17,11,"Out",14,10,12,18,8,2,4,16,6,"In"]
[{"$nulls":24},133,"RIVER PLANTATION (W)","WHITE",5815,"68.8/122","RED",0,"69.3/120",{"v":42.21,"d":"$42.21"},"NC","133Y","WHITE",310,144,393,358,317,453,161,454,324,2914,289,150,315,481,373,363,334,154,442,2901,5815,null,"133P","Par",4,3,4,4,4,5,3,5,4,36,4,3,4,5,4,4,4,3,5,36,72,null,"133H","HDCP",7,15,3,5,11,1,17,9,13,"Out",14,18,10,2,6,4,8,16,12,"In"]
[{"$nulls":24},134,"SIENNA PLANTATION (W)","WHITE",6025,"68.4/118","GREEN",0,"65.8/112",{"v":55,"d":"$55.00"},"NC","134Y","White",361,545,133,321,353,189,396,463,277,3038,336,393,359,385,174,441,266,156,477,2987,6025,null,"134P","Par",4,5,3,4,4,3,4,5,4,36,4,4,4,4,3,5,4,3,5,36,72,null,"134H","HDCP",15,5,13,17,1,3,9,11,7,"Out",10,4,16,2,6,14,18,12,8,"In"]
[{"$nulls":24},135,"STERLING COUNTRY CLUB (G)","GOLD",5800,"69.9/123","RED",0,"71.9/125",{"v":85,"d":"$85.00"},"NC","135Y","GOLD",340,339,119,358,118,443,364,115,510,2706,339,356,343,124,481,150,396,571,334,3094,5800,null,"135P","Par",4,5,3,4,3,5,4,3,5,36,4,4,4,3,5,3,4,5,4,36,72,null,"135H","HDCP",1,7,9,3,17,13,5,15,11,"Out",4,8,12,18,14,16,2,6,10,"In"]
[{"$nulls":24},136,"STONEBRIDGE (G)","GOLD",5827,"67.3/118","W-RED",0,"70.5/123",{"v":32.48,"d":"$32.48"},"NC","136Y","GOLD",340,339,119,360,524,140,470,300,375,2967,475,310,381,305,158,434,152,315,330,2860,5827,null,"136P","Par",4,4,3,4,5,3,5,4,4,36,5,4,4,4,3,5,3,4,4,36,72,null,"136H","HDCP",6,13,8,2,10,5,11,16,1,"Out",12,15,3,17,9,18,7,14,4,"In"]
[{"$nulls":24},137,"SWEETWATER CC (Pecan)","GOLD",6050,"69.9/127","RED",0,"72.5/121",{"v":85,"d":"$85.00"},"NC","137Y","GOLD",314,465,300,156,388,493,142,373,407,3038,353,512,330,127,310,455,178,382,365,3012,6050,null,"137P","Par",4,5,4,3,4,5,3,4,4,36,4,5,4,3,4,5,3,4,4,36,72,null,"137H","HDCP",15,9,11,13,3,1,17,7,5,"Out",14,2,12,16,10,8,18,4,6,"In"]
[{"$nulls":24},138,"TIMBER CREEK PINES/CREEKSIDE (G)","GOLD",5488,"65.8/116","RED",0,"67.3/114",{"v":85,"d":"$85.00"},"TCPC","138Y","GOLD",323,266,498,314,375,116,343,130,500,2865,334,312,309,156,359,273,118,343,419,2623,5488,null,"138P","Par",4,4,5,4,4,3,4,3,5,36,4,4,4,3,4,4,3,4,5,35,{"$f":"SUM(BR40,CB40)","v":71},null,"138H","HDCP",17,15,13,9,1,11,3,5,7,"Out",2,16,12,6,4,14,18,10,8,"In"]
[{"$nulls":24},139,"TIMBER CREEK PINES/CREEKSIDE (W)","WHITE",5953,"68.3/121","RED",0,"67.3/114",{"v":85,"d":"$85.00"},"TCPC","139Y","White",357,294,526,339,399,131,361,155,513,3075,359,312,368,179,395,300,123,379,463,2878,5953,null,"139P","Par",4,4,5,4,4,3,4,3,5,36,4,4,4,3,4,4,3,4,5,35,71,null,"139H","HDCP",17,15,13,9,1,11,3,5,7,"Out",2,16,12,6,4,14,18,10,8,"In"]
[{"$nulls":24},140,"TOUR 18 (Combo)","Combo",6064,"69.7/122","White",0,"71.3/129",{"v":85,"d":"$85.00"},"NC","140Y","Combo",315,500,335,306,370,145,465,373,121,2930,518,175,365,553,305,319,370,159,370,3134,6064,null,"140P","Par",4,5,4,4,4,3,5,4,3,36,5,3,4,5,4,4,4,3,4,36,72,null,"140H","HDCP",3,5,17,9,1,13,7,11,15,"Out",18,6,2,16,8,12,10,14,4,"In"]
[{"$nulls":24},141,"WALDEN ON LAKE CONROE (Gold)","GOLD",5665,"68.4/122","RED",0,"70.7/122",{"v":85,"d":"$85.00"},"NC","141Y","GOLD",426,433,285,144,326,130,358,344,430,2876,472,509,112,244,143,360,435,136,378,2789,5665,null,"141P","Par",4,5,4,3,4,3,4,4,5,36,5,5,3,4,3,4,5,3,4,36,72,null,"141H","HDCP",5,9,13,15,11,17,3,1,7,"Out",8,2,14,10,18,6,12,16,4,"In"]
[{"$nulls":24},142,"WEST FORK (W)","WHITE",5650,"67.4/116","RED",0,"68.9/114",{"v":85,"d":"$85.00"},"NC","142Y","White",327,341,130,263,434,342,300,151,514,2802,292,344,445,323,147,355,333,142,467,2848,5650,null,"142P","Par",4,4,3,4,5,4,4,3,5,36,4,4,5,4,3,4,4,3,5,36,72,null,"142H","HDCP",11,7,17,13,5,1,9,15,3,"Out",18,8,6,14,12,2,10,16,4,"In"]
[{"$nulls":24},143,"WILDCAT-HIGHLANDS (W)","WHITE",5617,"67.4/114","GREEN",0,"68.3/111",{"v":85,"d":"$85.00"},"NC","143Y","White",318,406,145,334,269,306,334,143,477,{"$f":"SUM(AK45:AS45)","v":2732},106,335,511,318,272,478,148,357,360,{"$f":"SUM(AU45:BC45)","v":2885},{"$f":"SUM(AT45,BD45)","v":5617},null,"143P","Par",4,5,3,4,4,4,4,3,5,{"$f":"SUM(BI45:BQ45)","v":36},3,4,5,4,4,5,3,4,4,{"$f":"SUM(BS45:CA45)","v":36},{"$f":"SUM(BR45,CB45)","v":72},null,"143H","HDCP",15,5,7,11,17,13,1,9,3,"Out",18,12,4,8,10,2,16,6,14,"In"]
[{"$nulls":24},144,"WILDCAT-LAKES (W)","WHITE",5482,"66.3/103","GREEN",0,"68.7/111",{"v":85,"d":"$85.00"},"NC","144Y","White",319,478,361,109,359,349,452,111,256,2794,294,352,436,114,342,270,295,127,458,2688,5482,null,"144P","Par",4,5,4,3,4,4,5,3,4,36,4,4,5,3,4,4,4,3,5,36,72,null,"144H","HDCP",9,3,11,17,7,13,1,15,5,"Out",4,6,2,18,10,14,12,16,8,"In"]
[{"$nulls":24},145,"WILDERNESS (Grn)","GREEN",6151,"69.8/121","ORANGE",0,"71.6/126",{"v":45,"d":"$45.00"},"NC","145Y","Green",391,492,332,134,349,352,496,160,434,3140,466,270,314,110,342,525,176,384,424,3011,6151,null,"145P","Par",4,5,4,3,4,4,5,3,4,36,5,4,4,3,4,5,3,4,4,36,72,null,"145H","HDCP",5,17,13,11,9,7,15,3,1,"Out",10,16,8,18,14,6,4,12,2,"In"]
[{"$nulls":24},146,"WINDROSE (G)","GOLD",6069,"69.4/122","RED",0,"71.2/120",{"v":43,"d":"$43.00"},"NC","146Y","GOLD",334,120,353,532,332,155,361,392,475,3054,366,153,472,394,450,375,116,301,388,3015,6069,null,"146P","Par",4,3,4,5,4,3,4,4,5,36,4,3,5,4,5,4,3,4,4,36,72,null,"146H","HDCP",17,15,7,3,11,5,9,1,13,"Out",6,18,12,4,10,8,16,14,2,"In"]